BEGIN:VCALENDAR
VERSION:2.0
PRODID:-//Istoreto - ECPv4.5.13//NONSGML v1.0//EN
CALSCALE:GREGORIAN
METHOD:PUBLISH
X-WR-CALNAME:Istoreto
X-ORIGINAL-URL:https://www.istoreto.it
X-WR-CALDESC:Events for Istoreto
BEGIN:VEVENT
DTSTART;TZID=UTC+0:20240919T163000
DTEND;TZID=UTC+0:20240919T180000
DTSTAMP:20260420T062455
CREATED:20240909T090423Z
LAST-MODIFIED:20240909T090441Z
UID:20618-1726763400-1726768800@www.istoreto.it
SUMMARY:Webinar di presentazione del kit Disobbedire. Gli Internati Militari Italiani - online
DESCRIPTION: clicca qui per iscriverti\nLancio del nuovo  nuovo kit  per la formazione degli insegnanti e da usare nelle classi alla presenza delle autrici e degli autori. Il kit è articolato per contenuto e metodo per la scuola secondaria di primo e quella di secondo grado. Attraverso le competenze e il patrimonio archivistico e librario di degli Istituti coinvolti si possono affrontare le domande poste dalla  guerra che segna nuovamente il  nostro presente: ragionare sulle continuità e discontinuità con il passato della seconda guerra mondiale è un’opportunità per aiutare a comprendere quanto sta avvenendo in questi mesi. \nin occasione dell’incontro sarà possibile scaricare il kit \nIl kit è a cura di  Archivio Nazionale Cinematografico della Resistenza\, Fondazione Vera Nocentini\, Istoreto\, Museo Diffuso della Resistenza\, Unione Culturale “F. Antonicelli” \n
URL:https://www.istoreto.it/event/webinar-di-presentazione-del-kit-disobbedire-gli-internati-militari-italiani/
END:VEVENT
END:VCALENDAR